BEGIN:VCALENDAR
VERSION:2.0
PRODID:-//KVTH - ECPv6.15.20//NONSGML v1.0//EN
CALSCALE:GREGORIAN
METHOD:PUBLISH
X-ORIGINAL-URL:https://kvth.nl
X-WR-CALDESC:Evenementen voor KVTH
REFRESH-INTERVAL;VALUE=DURATION:PT1H
X-Robots-Tag:noindex
X-PUBLISHED-TTL:PT1H
BEGIN:VTIMEZONE
TZID:UTC
BEGIN:STANDARD
TZOFFSETFROM:+0000
TZOFFSETTO:+0000
TZNAME:UTC
DTSTART:20220101T000000
END:STANDARD
END:VTIMEZONE
BEGIN:VEVENT
DTSTART;TZID=UTC:20230708T090000
DTEND;TZID=UTC:20230708T170000
DTSTAMP:20260421T123655
CREATED:20230430T123814Z
LAST-MODIFIED:20230430T123853Z
UID:1024-1688806800-1688835600@kvth.nl
SUMMARY:Centrale Keuring Noord
DESCRIPTION:Beste leden van regio Noord\, \nOp 8 juli 2023 wordt de Centrale Keuring regio Noord georganiseerd te Tolbert\, in de bijlagen vindt u de benodigde informatie en een inschrijfformulier.\n\nOm de organisatie en administratie zo vlot mogelijk te laten verlopen willen wij u verzoeken om digitaal in te schrijven via de website. Hierbij kunt u uw paard(en) in de juiste rubriek inschrijven en in het veld opmerkingen aangeven of u een box wilt huren. In het veld opmerkingen kunt u ook de samenstelling van de stalgroep\, fokgroep\, merrie met afstammelingen en generatiegroep noteren. Dit vereenvoudigt en versnelt de administratieve afhandeling.\nIndien u uw paard(en) aanmeldt voor stamboekopname dient het bedrag van € 19\,- per paard gelijktijdig met het inschrijfgeld te worden voldaan. U schrijft uw paard apart in voor de stamboekopname via de website\, naast de inschrijving voor de premiekeuring.\nTevens wijzen wij u erop dat de inschrijving voor de CK pas definitief is als de verschuldigde inschrijfgelden zijn overgemaakt naar de bankrekening van KVTH Noord.\n\nIndien u niet digitaal inschrijft kunt u dit 2023 CK-inschrijfformulier invullen en sturen naar dit mailadres of aangegeven postadres. Gelieve daarop een mailadres te noteren\, zodat er bij vragen snel contact met u kan worden opgenomen.\n\nWij hopen op een mooie dag met veel paarden in Tolbert\, zodat we als regio wederom beide rassen van ons stamboek op één dag optimaal presenteren en er samen weer een gezellige dag van kunnen maken!\n\nMet vriendelijke groet\,\n\n\n\n\nJose Hes-Hunnekink\nsecretaris KVTH regio Noord\n\n\n\n  \n2023 CK-ledenbrief
URL:https://kvth.nl/event/centrale-keuring-noord/
LOCATION:HJC Manege\, Hoofdstraat 53\, Tolbert\, Groningen\, 9356 AV\, Nederland
CATEGORIES:Landelijk,Noord
ATTACH;FMTTYPE=image/png:https://kvth.nl/wp-content/uploads/2023/04/Flyer-CK-Noord-2023.png
ORGANIZER;CN="KVTH Noord":MAILTO:noord@kvth.nl
END:VEVENT
END:VCALENDAR