BEGIN:VCALENDAR
VERSION:2.0
PRODID:-//KVTH - ECPv6.15.20//NONSGML v1.0//EN
CALSCALE:GREGORIAN
METHOD:PUBLISH
X-WR-CALNAME:KVTH
X-ORIGINAL-URL:https://kvth.nl
X-WR-CALDESC:Evenementen voor KVTH
REFRESH-INTERVAL;VALUE=DURATION:PT1H
X-Robots-Tag:noindex
X-PUBLISHED-TTL:PT1H
BEGIN:VTIMEZONE
TZID:UTC
BEGIN:STANDARD
TZOFFSETFROM:+0000
TZOFFSETTO:+0000
TZNAME:UTC
DTSTART:20240101T000000
END:STANDARD
END:VTIMEZONE
BEGIN:VEVENT
DTSTART;TZID=UTC:20250403T200000
DTEND;TZID=UTC:20250403T213000
DTSTAMP:20260421T140514
CREATED:20250319T105317Z
LAST-MODIFIED:20250319T105649Z
UID:3057-1743710400-1743715800@kvth.nl
SUMMARY:Algemene Vergadering
DESCRIPTION:Aanvang 20.00 uur \nLocatie Manege De Nieuwe Heuvel\nOude Arnhemseweg 101 te Lunteren
URL:https://kvth.nl/event/algemene-vergadering-2/
LOCATION:De Nieuwe Heuvel
CATEGORIES:Landelijk
END:VEVENT
END:VCALENDAR