BEGIN:VCALENDAR
VERSION:2.0
PRODID:-//KVTH - ECPv6.15.20//NONSGML v1.0//EN
CALSCALE:GREGORIAN
METHOD:PUBLISH
X-WR-CALNAME:KVTH
X-ORIGINAL-URL:https://kvth.nl
X-WR-CALDESC:Evenementen voor KVTH
REFRESH-INTERVAL;VALUE=DURATION:PT1H
X-Robots-Tag:noindex
X-PUBLISHED-TTL:PT1H
BEGIN:VTIMEZONE
TZID:UTC
BEGIN:STANDARD
TZOFFSETFROM:+0000
TZOFFSETTO:+0000
TZNAME:UTC
DTSTART:20230101T000000
END:STANDARD
END:VTIMEZONE
BEGIN:VEVENT
DTSTART;VALUE=DATE:20240706
DTEND;VALUE=DATE:20240707
DTSTAMP:20260421T041717
CREATED:20240512T112155Z
LAST-MODIFIED:20240512T112155Z
UID:2101-1720224000-1720310399@kvth.nl
SUMMARY:Centrale Keuring Noord
DESCRIPTION:
URL:https://kvth.nl/event/centrale-keuring-noord-3/
LOCATION:HJC Manege\, Hoofdstraat 53\, Tolbert\, Groningen\, 9356 AV\, Nederland
CATEGORIES:Landelijk,Noord
ATTACH;FMTTYPE=image/png:https://kvth.nl/wp-content/uploads/2024/05/Flyer-CK-Noord-2024.png
ORGANIZER;CN="KVTH Noord":MAILTO:noord@kvth.nl
END:VEVENT
END:VCALENDAR