BEGIN:VCALENDAR
VERSION:2.0
PRODID:-//KVTH - ECPv6.15.20//NONSGML v1.0//EN
CALSCALE:GREGORIAN
METHOD:PUBLISH
X-WR-CALNAME:KVTH
X-ORIGINAL-URL:https://kvth.nl
X-WR-CALDESC:Evenementen voor KVTH
REFRESH-INTERVAL;VALUE=DURATION:PT1H
X-Robots-Tag:noindex
X-PUBLISHED-TTL:PT1H
BEGIN:VTIMEZONE
TZID:UTC
BEGIN:STANDARD
TZOFFSETFROM:+0000
TZOFFSETTO:+0000
TZNAME:UTC
DTSTART:20240101T000000
END:STANDARD
END:VTIMEZONE
BEGIN:VEVENT
DTSTART;TZID=UTC:20250226T193000
DTEND;TZID=UTC:20250226T223000
DTSTAMP:20260420T160115
CREATED:20250208T103158Z
LAST-MODIFIED:20250208T103340Z
UID:2865-1740598200-1740609000@kvth.nl
SUMMARY:Ledenvergadering K.V.T.H. Noord
DESCRIPTION:Het bestuur van KVTH Regio Noord nodigt u uit voor het bijwonen van de ledenvergadering op 26 februari 2025\nAanvang om 19.30 uur. Locatie: Buorskip te Beetsterzwaag.\nDe ledenvergadering zal voorafgegaan worden door een lezing door M. Schoon (onderzoeker genetische diversiteit aan de Wageningen University & Research) met betrekking tot het onderwerp Genetica. \n 
URL:https://kvth.nl/event/ledenvergadering-k-v-t-h-noord/
LOCATION:De Buorskip\, Vlaslaan 1\, Beetsterzwaag\, Friesland\, 9244 CH\, Nederland
CATEGORIES:Noord
ORGANIZER;CN="KVTH Noord":MAILTO:noord@kvth.nl
END:VEVENT
END:VCALENDAR