BEGIN:VCALENDAR
VERSION:2.0
PRODID:-//KVTH - ECPv6.15.20//NONSGML v1.0//EN
CALSCALE:GREGORIAN
METHOD:PUBLISH
X-ORIGINAL-URL:https://kvth.nl
X-WR-CALDESC:Evenementen voor KVTH
REFRESH-INTERVAL;VALUE=DURATION:PT1H
X-Robots-Tag:noindex
X-PUBLISHED-TTL:PT1H
BEGIN:VTIMEZONE
TZID:UTC
BEGIN:STANDARD
TZOFFSETFROM:+0000
TZOFFSETTO:+0000
TZNAME:UTC
DTSTART:20240101T000000
END:STANDARD
END:VTIMEZONE
BEGIN:VEVENT
DTSTART;VALUE=DATE:20250913
DTEND;VALUE=DATE:20250914
DTSTAMP:20260420T050829
CREATED:20250423T185250Z
LAST-MODIFIED:20250819T174859Z
UID:3165-1757721600-1757807999@kvth.nl
SUMMARY:Buitenrit
DESCRIPTION:Opgave en informatie via mailadres van Activiteitencommissie Regio Noord\nkvthactiviteiten@outlook.com
URL:https://kvth.nl/event/buitenrit/
CATEGORIES:Noord
ORGANIZER;CN="KVTH Noord":MAILTO:noord@kvth.nl
END:VEVENT
END:VCALENDAR