BEGIN:VCALENDAR
VERSION:2.0
PRODID:-//KVTH - ECPv6.15.20//NONSGML v1.0//EN
CALSCALE:GREGORIAN
METHOD:PUBLISH
X-ORIGINAL-URL:https://kvth.nl
X-WR-CALDESC:Evenementen voor KVTH
REFRESH-INTERVAL;VALUE=DURATION:PT1H
X-Robots-Tag:noindex
X-PUBLISHED-TTL:PT1H
BEGIN:VTIMEZONE
TZID:UTC
BEGIN:STANDARD
TZOFFSETFROM:+0000
TZOFFSETTO:+0000
TZNAME:UTC
DTSTART:20230101T000000
END:STANDARD
END:VTIMEZONE
BEGIN:VEVENT
DTSTART;VALUE=DATE:20240511
DTEND;VALUE=DATE:20240512
DTSTAMP:20260421T090801
CREATED:20240119T115213Z
LAST-MODIFIED:20240119T115213Z
UID:1761-1715385600-1715471999@kvth.nl
SUMMARY:Dressuurwedstrijd Beilen
DESCRIPTION:meer info volgt
URL:https://kvth.nl/event/dressuurwedstrijd-beilen/
LOCATION:Beilen
CATEGORIES:Noord
ORGANIZER;CN="KVTH Noord":MAILTO:noord@kvth.nl
END:VEVENT
END:VCALENDAR